BEGIN:VCALENDAR
VERSION:2.0
PRODID:-//Barnasants - ECPv6.15.20//NONSGML v1.0//EN
CALSCALE:GREGORIAN
METHOD:PUBLISH
X-WR-CALNAME:Barnasants
X-ORIGINAL-URL:https://barnasants.com
X-WR-CALDESC:Esdeveniments per Barnasants
REFRESH-INTERVAL;VALUE=DURATION:PT1H
X-Robots-Tag:noindex
X-PUBLISHED-TTL:PT1H
BEGIN:VTIMEZONE
TZID:Europe/Madrid
BEGIN:DAYLIGHT
TZOFFSETFROM:+0100
TZOFFSETTO:+0200
TZNAME:CEST
DTSTART:20250330T010000
END:DAYLIGHT
BEGIN:STANDARD
TZOFFSETFROM:+0200
TZOFFSETTO:+0100
TZNAME:CET
DTSTART:20251026T010000
END:STANDARD
BEGIN:DAYLIGHT
TZOFFSETFROM:+0100
TZOFFSETTO:+0200
TZNAME:CEST
DTSTART:20260329T010000
END:DAYLIGHT
BEGIN:STANDARD
TZOFFSETFROM:+0200
TZOFFSETTO:+0100
TZNAME:CET
DTSTART:20261025T010000
END:STANDARD
BEGIN:DAYLIGHT
TZOFFSETFROM:+0100
TZOFFSETTO:+0200
TZNAME:CEST
DTSTART:20270328T010000
END:DAYLIGHT
BEGIN:STANDARD
TZOFFSETFROM:+0200
TZOFFSETTO:+0100
TZNAME:CET
DTSTART:20271031T010000
END:STANDARD
END:VTIMEZONE
BEGIN:VEVENT
DTSTART;TZID=Europe/Madrid:20260314T200000
DTEND;TZID=Europe/Madrid:20260315T220000
DTSTAMP:20260420T114818
CREATED:20260228T082419Z
LAST-MODIFIED:20260228T082542Z
UID:8499-1773518400-1773612000@barnasants.com
SUMMARY:Joan Isaac & Eduard Iniesta (BS Illes Balears)
DESCRIPTION:Ara o Mai \nNo és el primer cop que dos artistes contrastats uneixen forces per construir un espectacle musical. Aquesta sinergia de creativitat i emocions potencia sens dubte les obres de cadascú d’ells\, que ara presenten conjuntament a Capdepera dins la programació del Barnasants a les Illes Balears. \nJoan Isaac acaba tot just de celebrar els 50 anys d’ofici\, que va culminar en un concert memorable al Palau de la Música Catalana. Eduard Iniesta (músic\, productor musical\, arranjador i cantautor) continua girant amb l’espectacle de les cançons del seu darrer treball “La comunitat” elogiat unànimement per la crítica musical del país. \nA més a més\, l’Eduard ha arranjat i produït el darrer treball de Joan Isaac “Quadern de viatge”\, que veurà la llum properament. “ARA O MAI” serà un concert possiblement irrepetible\, perquè “ARA” just han passat 20 anys que es varen conèixer i “MAI” les circumstàncies havien estat tan favorables. Un concert ple de matisos i complicitats\, dues personalitats diferents\, que es complementen i es potencien\, amarats de sonoritats mediterrànies amb un denominador comú que és el bon gust musical i l’emoció a flor de pell que inspiren les seves cançons. \nDos artistes que construeixen un concert únic i ple de bellesa. Dues maneres diferents de concebre la poesia i la música\, però amb una fidelitat i un amor apassionat per l’art de escriure cançons i cantar-les. \n  \nENTRADA LLIURE.
URL:https://barnasants.com/esdeveniments/joan-isaac-eduard-iniesta-bs-illes-balears/
LOCATION:Teatre de Capdepera\, Carrer des Col·legi\, 18\, Capdepera\, Mallorca\, 07580
CATEGORIES:BS Illes Balears
ATTACH;FMTTYPE=image/webp:https://barnasants.com/wp-content/uploads/2026/01/Joan-Isaac-Eduard-Iniesta.webp
END:VEVENT
BEGIN:VEVENT
DTSTART;TZID=Europe/Madrid:20260314T203000
DTEND;TZID=Europe/Madrid:20260314T223000
DTSTAMP:20260420T114818
CREATED:20260228T090314Z
LAST-MODIFIED:20260304T130442Z
UID:8508-1773520200-1773527400@barnasants.com
SUMMARY:Carmen Consoli  (BS Illes Balears)
DESCRIPTION:Amuri luci \nLa gran veu italiana Carmen Consoli  actua dins la seva gira internacional\, en el marc del Barnasants\, en aquesta ocasió a Sant Francesc de Formentera. \nPresentarà per primer cop a casa nostra el seu darrer treball discogràfic Amuri luci\, en què la cantautora de Catània explora les seves arrels culturals i lingüístiques sicilianes amb la seva habitual força expressiva. \nConsoli\, que també és coneguda amb el sobrenom de la “cantantessa”\, és una cantautora\, guitarrista i compositora italiana\, que es va revelar el 1996 al Festival de Sanremo amb la cançó Amore di plastica i disc rere disc ha demostrat que és possible proposar un rock d’autor\, alternatiu i elaborat\, sense renunciar al gran públic. \nD’ençà del començament de la seva carrera ha venut més de dos milions de discos a Itàlia i ha estat guardonada amb 11 discos de platí i dos discos d’or\, entre molts d’altres reconeixements.
URL:https://barnasants.com/esdeveniments/carmen-consoli-bs-illes-balears/
LOCATION:Sala de Cultura (Cinema) de Formentera\, Avinguda de Porto-Salè\, Sant Francesc\, Formentera\, 08760
CATEGORIES:BS Illes Balears
ATTACH;FMTTYPE=image/jpeg:https://barnasants.com/wp-content/uploads/2026/01/carmen-consoli-2.jpeg
END:VEVENT
BEGIN:VEVENT
DTSTART;TZID=Europe/Madrid:20260321T190000
DTEND;TZID=Europe/Madrid:20260321T220000
DTSTAMP:20260420T114818
CREATED:20260228T092301Z
LAST-MODIFIED:20260316T112526Z
UID:8519-1774119600-1774130400@barnasants.com
SUMMARY:Concert Homenatge a Joan Ramon Bonet (BS Illes Balears)
DESCRIPTION:60 anys de L’amor perdut\, un homenatge a Joan Ramon Bonet\nAmb Joan Manuel Serrat\, Maria del Mar Bonet i Miquela Lladó\, entre d’altres.\n  \nEl Teatre Principal d’Inca de Mallorca i BarnaSants hem programat una vetllada musical en homenatge a Joan Ramon Bonet (Palma\, 1944)\, una de les veus fundacionals de la nova cançó. L’acte vol reivindicar el seu bell cançoner propi\, així com la dimensió artística global de l’autor\, que es completa amb la seva reconeguda trajectòria com a fotògraf. \nNo hi faltaran clàssics com L’amor perdut\, El vent em du o Sa gavina. Serà una vetllada carregada d’emoció\, records i nostàlgia i\, també\, un espai de retrobada\, ja que l’acte comptarà amb la participació de noms destacats de la cançó i la cultura\, com Joan Manuel Serrat\, Maria del Mar Bonet i Miquela Lladó\, entre d’altres. La direcció musical serà a càrrec de Borja Penalba. \nPetita biografia de Bonet:\nA més de ser una de les veus pioneres de la nova cançó\, va ser el primer artista balear a formar part del col·lectiu Els Setze Jutges. La seva formació i experiència en la marina\, el va marcar profundament en la seva obra musical\, on la mar esdevé metàfora de llibertat\, amor i aventura. Als anys seixanta s’instal·là a Barcelona\, on enregistrà cançons emblemàtiques com L’amor perdut. La seva trajectòria musical\, breu però intensa\, el situà com una figura clau del moviment i fou també determinant en la incorporació de la seva germana Maria del Mar Bonet a la nova cançó. La seva obra musical ha estat reeditada en diversos formats i ha rebut distincions com la Medalla d’Honor del Parlament de Catalunya.
URL:https://barnasants.com/esdeveniments/concert-homenatge-a-joan-ramon-bonet-amb-maria-del-mar-bonet-joan-manuel-serrat-quico-pi-de-la-serra-ester-formosa-i-roger-mas-entre-daltres/
LOCATION:Teatre Principal d’Inca\, Carrer des Teatre\, 10\, Inca\, Mallorca\, 07300
CATEGORIES:BS Illes Balears
ATTACH;FMTTYPE=image/jpeg:https://barnasants.com/wp-content/uploads/2026/02/JRBonet_IncaMallorca.jpeg
END:VEVENT
END:VCALENDAR