BEGIN:VCALENDAR
VERSION:2.0
PRODID:-//Barnasants - ECPv6.15.20//NONSGML v1.0//EN
CALSCALE:GREGORIAN
METHOD:PUBLISH
X-WR-CALNAME:Barnasants
X-ORIGINAL-URL:https://barnasants.com
X-WR-CALDESC:Esdeveniments per Barnasants
REFRESH-INTERVAL;VALUE=DURATION:PT1H
X-Robots-Tag:noindex
X-PUBLISHED-TTL:PT1H
BEGIN:VTIMEZONE
TZID:Europe/Madrid
BEGIN:DAYLIGHT
TZOFFSETFROM:+0100
TZOFFSETTO:+0200
TZNAME:CEST
DTSTART:20240331T010000
END:DAYLIGHT
BEGIN:STANDARD
TZOFFSETFROM:+0200
TZOFFSETTO:+0100
TZNAME:CET
DTSTART:20241027T010000
END:STANDARD
BEGIN:DAYLIGHT
TZOFFSETFROM:+0100
TZOFFSETTO:+0200
TZNAME:CEST
DTSTART:20250330T010000
END:DAYLIGHT
BEGIN:STANDARD
TZOFFSETFROM:+0200
TZOFFSETTO:+0100
TZNAME:CET
DTSTART:20251026T010000
END:STANDARD
BEGIN:DAYLIGHT
TZOFFSETFROM:+0100
TZOFFSETTO:+0200
TZNAME:CEST
DTSTART:20260329T010000
END:DAYLIGHT
BEGIN:STANDARD
TZOFFSETFROM:+0200
TZOFFSETTO:+0100
TZNAME:CET
DTSTART:20261025T010000
END:STANDARD
END:VTIMEZONE
BEGIN:VEVENT
DTSTART;TZID=Europe/Madrid:20251101T200000
DTEND;TZID=Europe/Madrid:20251101T200000
DTSTAMP:20260421T183527
CREATED:20250331T082452Z
LAST-MODIFIED:20251106T104528Z
UID:7733-1762027200-1762027200@barnasants.com
SUMMARY:Adrià Alemany al Harlem
DESCRIPTION:Dissabte 1 de novembre· Harlem Jazz Club (Barcelona)· 20 h · 15/18 € \nAdrià Alemany. Àlbum familiar \nEl barceloní Adrià Alemany Salafranca llança el primer disc\, Àlbum familiar (autoeditat\, 2025)\, basat en lletres intimistes\, ombres i esperances. \nAmb cançons marcades per processos de canvi\, pèrdua\, absència i dolor\, però també plenes de vida\, l’activista retrata moments vitals que l’han marcat per mostrar les vulnerabilitats. I de teló de fons visualitza Barcelona\, tant des del vessant autobiogràfic com a través de la denúncia per la mercantilització de la ciutat. \nConcert programat dins del El Festival de Jazz i Música Creativa de Ciutat Vella
URL:https://barnasants.com/esdeveniments/adria-alemany-%c2%b7nova-data-al-harlem/
LOCATION:Harlem Jazz Club\, Comtessa de Sobradiel\, 8\, Barcelona
CATEGORIES:BS Catalunya
ATTACH;FMTTYPE=image/jpeg:https://barnasants.com/wp-content/uploads/2025/03/Adria-Alemany-web.jpg
END:VEVENT
BEGIN:VEVENT
DTSTART;TZID=Europe/Madrid:20251116T180000
DTEND;TZID=Europe/Madrid:20251116T180000
DTSTAMP:20260421T183527
CREATED:20251014T083013Z
LAST-MODIFIED:20260108T080412Z
UID:7242-1763316000-1763316000@barnasants.com
SUMMARY:Giula Valle interpreta a Carlos Cano
DESCRIPTION:Diumenge 16 de novembre  ·  Atrium de Viladecans · 18h \nGiula Valle interpreta a Carlos Cano en clau de jazz \nLa contrabaixista i compositora Giulia Valle torna a l’escenari de BarnaSants amb un projecte de gran valor: Carlos Cano en clau de jazz\, una obra plasmada en un disc homònim. \nEnvoltada per sis músics excepcionals\, destaca la immensa i versàtil Rusó Sala (veu i guitarra)\, Giulia revisa des de l’eclecticisme que la caracteritza alguns dels temes més icònics del gran Carlos Cano\, figura indispensable de la cançó d’autor del nostre país. \nEl denominador comú entre el llegat que va deixar Carlos Cano i la música de Giulia\, consisteix en una infinitat de registres que els converteix en autors sense límits estilístics i amb un poderós univers propi\, i aquest poder es reflecteix en aquest treball captivador\, sorprenent i emocionant. \n“L’aliança infreqüent de la millor cançó popular i el jazz més creatiu ha donat a llum un disc memorable” (Santiago Auserón\, Bcn 2020) \nGiulia Valle: Contrabaix\, arranjaments i direcció musical\nRusó Sala: Veu i guitarra\nEdu Pons: Saxos\, clarinet\, flauta.\nMark Aanderud: Piano\nDani Domínguez: Bateria i percussió.
URL:https://barnasants.com/esdeveniments/giula-valle-interpreta-a-carlos-cano/
LOCATION:Atrium Viladecans\, Av. Josep Tarradellas\, 17\, Viladecans\, Catalunya\, 08840
CATEGORIES:BS Catalunya
ATTACH;FMTTYPE=image/jpeg:https://barnasants.com/wp-content/uploads/2019/12/57giuliavalle.jpg
END:VEVENT
END:VCALENDAR