BEGIN:VCALENDAR
VERSION:2.0
PRODID:-//Barnasants - ECPv6.15.20//NONSGML v1.0//EN
CALSCALE:GREGORIAN
METHOD:PUBLISH
X-ORIGINAL-URL:https://barnasants.com
X-WR-CALDESC:Esdeveniments per Barnasants
REFRESH-INTERVAL;VALUE=DURATION:PT1H
X-Robots-Tag:noindex
X-PUBLISHED-TTL:PT1H
BEGIN:VTIMEZONE
TZID:Europe/Madrid
BEGIN:DAYLIGHT
TZOFFSETFROM:+0100
TZOFFSETTO:+0200
TZNAME:CEST
DTSTART:20240331T010000
END:DAYLIGHT
BEGIN:STANDARD
TZOFFSETFROM:+0200
TZOFFSETTO:+0100
TZNAME:CET
DTSTART:20241027T010000
END:STANDARD
BEGIN:DAYLIGHT
TZOFFSETFROM:+0100
TZOFFSETTO:+0200
TZNAME:CEST
DTSTART:20250330T010000
END:DAYLIGHT
BEGIN:STANDARD
TZOFFSETFROM:+0200
TZOFFSETTO:+0100
TZNAME:CET
DTSTART:20251026T010000
END:STANDARD
BEGIN:DAYLIGHT
TZOFFSETFROM:+0100
TZOFFSETTO:+0200
TZNAME:CEST
DTSTART:20260329T010000
END:DAYLIGHT
BEGIN:STANDARD
TZOFFSETFROM:+0200
TZOFFSETTO:+0100
TZNAME:CET
DTSTART:20261025T010000
END:STANDARD
END:VTIMEZONE
BEGIN:VEVENT
DTSTART;TZID=Europe/Madrid:20250403T210000
DTEND;TZID=Europe/Madrid:20250403T210000
DTSTAMP:20260422T045415
CREATED:20241223T073906Z
LAST-MODIFIED:20250408T142948Z
UID:7415-1743714000-1743714000@barnasants.com
SUMMARY:Ángel Petisme. Más Buñuel\, por favor
DESCRIPTION:Dijous 3 d’abril · Luz de Gas (Barcelona) · 21 h · 22/25 € \nÁngel Petisme. Más Buñuel\, por favor  \nEl recital del cantautor de Calataiud desperta l’àngel del cineasta Luis Buñuel per reivindicar el llegat d’un altre artista aragonès com ell. \nBuñuel del desierto (Prames\, 2000) va suposar fa 25 anys la primera aproximació musical completa a l’obra literària i cinematogràfica de Luis Buñuel. El disc va tenir la participació de les veus convidades de Paco Rabal\, Ángela Molina\, Fernando Rey\, Pepín Bello i Silvia Pinal\, a més de textos de Jean-Claude Carrière i Agustín Sánchez Vidal.
URL:https://barnasants.com/esdeveniments/angel-petisme-mas-bunuel-por-favor/
LOCATION:Luz de Gas\, Carrer de Muntaner\, 246\, Barcelona
CATEGORIES:BS Catalunya
ATTACH;FMTTYPE=image/jpeg:https://barnasants.com/wp-content/uploads/2024/12/angel-petisme-WEB.jpg
END:VEVENT
BEGIN:VEVENT
DTSTART;TZID=Europe/Madrid:20250405T200000
DTEND;TZID=Europe/Madrid:20250405T200000
DTSTAMP:20260422T045415
CREATED:20241222T233435Z
LAST-MODIFIED:20250109T143628Z
UID:7409-1743883200-1743883200@barnasants.com
SUMMARY:Miquel Pujadó canta Georges Brassens: humor i anarquia
DESCRIPTION:Dissabte 5 d’abril · C.C. Albareda (Barcelona) · 20 h · 15/18 € \nMiquel Pujadó canta Georges Brassens: humor i anarquia  \nEl cantautor vallesà nascut a Madrid dedica el seu espectacle a l’admirat Georges Brassens\, tot un antídot contra l’estupidesa i el fanatisme. \nMiquel Pujadó farà una tria d’adaptacions de Brassens\, des de les més conegudes\, com “La mala reputació” i “El goril·la”\, fins a descobertes pòstumes com la hilarant “El net d’Èdip”. Tot plegat alternat amb textos extrets de la seva correspondència\, els dietaris i la novel·la La torre dels miracles\, dits pel conegut actor Mingo Ràfols.
URL:https://barnasants.com/esdeveniments/miquel-pujado-canta-georges-brassens-humor-i-anarquia/
LOCATION:Centre Cultural Albareda\, albareda\, 22\, Barcelona
CATEGORIES:BS Catalunya
ATTACH;FMTTYPE=image/jpeg:https://barnasants.com/wp-content/uploads/2024/12/MIQUEL-PUJADO-WEB.jpg
END:VEVENT
BEGIN:VEVENT
DTSTART;TZID=Europe/Madrid:20250405T200000
DTEND;TZID=Europe/Madrid:20250405T200000
DTSTAMP:20260422T045415
CREATED:20241223T075824Z
LAST-MODIFIED:20250401T075406Z
UID:7424-1743883200-1743883200@barnasants.com
SUMMARY:Joanjo Bosk a Girona
DESCRIPTION:Dissabte 5 d’abril · El Foment (Girona) · 20 h · 13 € \nJoanjo Bosk en concert \nEl cantant empordanès prepara nou treball i el presenta al Barnasants. Després d’un temps necessari d’experimentació i reflexió\, Bosk reprèn la noble tasca de fer cançons\, treballades de la forma més pura possible i amb un enfoc musical més anglosaxó que mediterrani. \nPel que fa al directe prepara nou repertori on inclou alguns dels temes més representatius de la seva trajectòria\, versionant també\, a tall d’antologia\, alguns dels nostres cantautors clàssics més estimats.\nBosk es mou entre la cançó d’autor\, el folk i el rock\, en una escena catalana que ha canviat molt en aquests últims anys. \nDurant aquest temps ha aconseguit recopilar un bon nombre de discos i cançons de qualitat indiscutible\, ja des dels seus inicis rockers a mitjans dels noranta\, fins a la més recent i extensa etapa de cantautor.
URL:https://barnasants.com/esdeveniments/joanjo-bosk-canco-de-repos-a-girona/
LOCATION:El Foment\, Carrer dels Mercaders\, 8\, Girona\, Girona\, 17004
CATEGORIES:BS Catalunya
ATTACH;FMTTYPE=image/jpeg:https://barnasants.com/wp-content/uploads/2024/12/JOANJO-BOSK-WEB-1.jpg
END:VEVENT
BEGIN:VEVENT
DTSTART;TZID=Europe/Madrid:20250406T180000
DTEND;TZID=Europe/Madrid:20250406T180000
DTSTAMP:20260422T045415
CREATED:20241223T075217Z
LAST-MODIFIED:20250114T141233Z
UID:7421-1743962400-1743962400@barnasants.com
SUMMARY:Mariola Membrives i Renaud García-Fons. Canciones de amor y libertad
DESCRIPTION:Diumenge 6 d’abril· Teatre Joventut (l’Hospitalet) · 18 h · 18 € \nMariola Membrives i Renaud García-Fons: Canciones de amor y libertad. El canto de la república  \nLa producció exclusiva El canto de la República és una espectacle de cançons d’amor i llibertat amb Mariola Membrives i Renaud García-Fons. \nLa trobada entre la cordovesa Mariola Membrives\, una de les veus més personals i lorquianes de l’escena espanyola\, i el músic francès Renaud García-Fons\, considerat ‘el Paganini del contrabaix’\, oferirà un repertori íntim d’intensitat màxima.
URL:https://barnasants.com/esdeveniments/mariola-membribes-i-renaud-garcia-fons/
LOCATION:Teatre Joventut\, Joventut\, 4\, L'Hospitalet de Llobregat
CATEGORIES:BS Catalunya
ATTACH;FMTTYPE=image/jpeg:https://barnasants.com/wp-content/uploads/2024/12/Mariola-Membrives-2-1.jpg
END:VEVENT
BEGIN:VEVENT
DTSTART;TZID=Europe/Madrid:20250410T210000
DTEND;TZID=Europe/Madrid:20250410T210000
DTSTAMP:20260422T045415
CREATED:20241223T081648Z
LAST-MODIFIED:20250109T140232Z
UID:7434-1744318800-1744318800@barnasants.com
SUMMARY:Lynn Milanés i Miguelito Núñez interpreten Pablo Milanés
DESCRIPTION:Dijous 10 d’abril · Luz de Gas (Barcelona) · 21 h · 22/25 € \nLynn Milanés i Miguelito Núñez interpreten Pablo Milanés  \nFilla i músic del trobador cubà Pablo Milanés cantaran les cançons de l’autor de “Yolanda”\, “El breve espacio en que no estás” o “Para vivir”. \nLa filla del llegendari cantautor Pablo Milanés unirà la seva veu amb el virtuosisme del pianista que va acompanyar el seu pare durant dècades. Junts interpretaran algunes de les seves cançons més icòniques\, revisitant-lo a través d’una sensibilitat que compartirà tradició i contemporaneïtat. Amb una carrera que abraça estils diversos que van de la trova cubana al bolero\, la bossa nova i el pop-rock\, Lynn Milanés ha destacat per la seva versatilitat. El disc Te quiero bien (Betania Peña\, 2006)\, nominat als Premis Cubadisco\, la va situar com una artista única que ha sabut combinar l’herència de la Nueva Trova amb els nous sons. Per la seva banda\, Miguel Núñez aportarà la seva llarga experiència com a intèrpret i arranjador de Milanés\, amb qui va col·laborar en nombrosos projectes arreu del planeta. Pablo Milanés (Bayamo\, 1943 – Madrid\, 2022) és un dels principals exponents de la cançó d’autor en castellà\, que va abordar una àmplia diversitat de gèneres de la música cubana i americana en la totalitat de la seva obra. El seu repertori abasta de la tradició a la modernitat i del filin a la cançó d’autor\, passant pel jazz\, la rumba\, el son i el bolero\, gràcies a la seva àmplia capacitat interpretativa plasmada en una discografia que ha quedat registrada en més de quaranta àlbums.
URL:https://barnasants.com/esdeveniments/lynn-milanes-i-miguelito-nunez-interpreten-pablo-milanes/
LOCATION:Luz de Gas\, Carrer de Muntaner\, 246\, Barcelona
CATEGORIES:BS Catalunya
ATTACH;FMTTYPE=image/jpeg:https://barnasants.com/wp-content/uploads/2024/12/pablo-milane╠us-juan-miguel-morales-WEB.jpg
END:VEVENT
BEGIN:VEVENT
DTSTART;TZID=Europe/Madrid:20250411T200000
DTEND;TZID=Europe/Madrid:20250411T200000
DTSTAMP:20260422T045415
CREATED:20241219T104458Z
LAST-MODIFIED:20250428T063320Z
UID:7253-1744401600-1744401600@barnasants.com
SUMMARY:Maria del Mar Bonet - ENTRADES EXHAURIDES
DESCRIPTION:Divendres 11 d’abril · L’Auditori de Barcelona ·  20 h · ENTRADES EXHAURIDES \nMaria del Mar Bonet: 50 anys del concert a l’Olympia de París \nEl 27 d’abril de 1975 la cantautora palmesana va actuar al mític teatre L’Olympia de París i va enregistrar un àlbum que celebra 50 anys. \nEl disc A l’Olympia (Ariola\, 1975) es va gravar fa mig segle amb una banda liderada per Toni Pastor\, que ara Maria del Mar Bonet recupera en directe. Peces populars (“Tonades de segar”\, “Tonada de collir olives”)\, pròpies (“Aigo”\, “Me n’aniré de casa”) i musicacions de poetes (“Inici de campana” de Rosselló-Pòrcel i “Romanço” de Martí i Pol).
URL:https://barnasants.com/esdeveniments/maria-del-mar-bonet-50-anys-de-lolympia/
LOCATION:L’Auditori de Barcelona\, Lepant\, 150\, Barcelona
CATEGORIES:BS Catalunya
ATTACH;FMTTYPE=image/jpeg:https://barnasants.com/wp-content/uploads/2024/12/maria-del-mar-bonet-toni-catany-scaled.jpg
END:VEVENT
BEGIN:VEVENT
DTSTART;TZID=Europe/Madrid:20250412T200000
DTEND;TZID=Europe/Madrid:20250412T200000
DTSTAMP:20260422T045415
CREATED:20241223T082204Z
LAST-MODIFIED:20250109T143811Z
UID:7437-1744488000-1744488000@barnasants.com
SUMMARY:Jabier Muguruza al Barnasants
DESCRIPTION:DIssabte 12 d’abril · El Molino (Barcelona) · 20 h · 20/25 € \nJabier Muguruza en concert \nEl cantautor irundarra\, tot un clàssic del festival BarnaSants i un referent de la cançó en euskera\, oferirà un recital amb el pianista Mikel Aspiroz. \nJabier Muguruza farà un recorregut per una selecció de cançons dels seus setze discos. Nascut el 1960 a Irun\, als 5 anys ja va començar a tocar l’acordió. La música i la paraula han estat els dos eixos de la seva professió\, i la seva obra ha obtingut l’elogi unànime de públic i crítica\, guardonat amb Premis de la Música\, BarnaSants i MIN.
URL:https://barnasants.com/esdeveniments/jabier-muguruza-al-barnasants/
LOCATION:El Molino\, Carrer de Vila i Vilà\, 99\, Barcelona\, Barcelona\, 08004
CATEGORIES:BS Catalunya
ATTACH;FMTTYPE=image/jpeg:https://barnasants.com/wp-content/uploads/2024/12/Jabier-Muguruza-.jpg
END:VEVENT
BEGIN:VEVENT
DTSTART;TZID=Europe/Madrid:20250412T200000
DTEND;TZID=Europe/Madrid:20250412T200000
DTSTAMP:20260422T045415
CREATED:20241223T083035Z
LAST-MODIFIED:20250311T121132Z
UID:7440-1744488000-1744488000@barnasants.com
SUMMARY:Adrià Alemany · ENTRADES EXHAURIDES
DESCRIPTION:Dissabte 12 d’abril · Harlem Jazz Club (Barcelona) · 20 h · ENTRADES EXHAURIDES \nAdrià Alemany. Àlbum familiar \nEl barceloní Adrià Alemany Salafranca llança el primer disc\, Àlbum familiar (autoeditat\, 2025)\, basat en lletres intimistes\, ombres i esperances. \nAmb cançons marcades per processos de canvi\, pèrdua\, absència i dolor\, però també plenes de vida\, l’activista retrata moments vitals que l’han marcat per mostrar les vulnerabilitats. I de teló de fons visualitza Barcelona\, tant des del vessant autobiogràfic com a través de la denúncia per la mercantilització de la ciutat.
URL:https://barnasants.com/esdeveniments/adria-alemany-album-familiar/
LOCATION:Harlem Jazz Club\, Comtessa de Sobradiel\, 8\, Barcelona
CATEGORIES:BS Catalunya
ATTACH;FMTTYPE=image/jpeg:https://barnasants.com/wp-content/uploads/2024/12/Adria-Alemany-web.jpg
END:VEVENT
BEGIN:VEVENT
DTSTART;TZID=Europe/Madrid:20250424T200000
DTEND;TZID=Europe/Madrid:20250424T200000
DTSTAMP:20260422T045415
CREATED:20241223T083843Z
LAST-MODIFIED:20250109T143807Z
UID:7443-1745524800-1745524800@barnasants.com
SUMMARY:Paula Ferré al Harlem
DESCRIPTION:Dijous 24 d’abril · Harlem Jazz Club (Barcelona)· 20 h · 15/18 € \nPaula Ferré en concert \nLa trobadora argentina interpreta un ventall de temes propis amb compromís i contingut social després de tres dècades de trajectòria. \nEl concert de la fundadora de MujerTrova\, Paula Ferré\, serà un recull de cançons contra l’oblit dedicades a les Madres de Plaza de Mayo\, a la revolució cubana\, a Palestina\, als desapareguts de la dictadura militar a l’Argentina\, al Che\, a favor dels drets humans i per la igualtat de gènere. Una nit plena de cançons universals i necessàries.
URL:https://barnasants.com/esdeveniments/paula-ferre-al-harlem-3/
LOCATION:Harlem Jazz Club\, Comtessa de Sobradiel\, 8\, Barcelona
CATEGORIES:BS Catalunya
ATTACH;FMTTYPE=image/jpeg:https://barnasants.com/wp-content/uploads/2024/12/paula-ferre-juan-miguel-morales.jpg
END:VEVENT
BEGIN:VEVENT
DTSTART;TZID=Europe/Madrid:20250425T203000
DTEND;TZID=Europe/Madrid:20250425T203000
DTSTAMP:20260422T045415
CREATED:20250114T123250Z
LAST-MODIFIED:20250428T063313Z
UID:7604-1745613000-1745613000@barnasants.com
SUMMARY:Els miralls de Dylan · ENTRADES EXHAURIDES
DESCRIPTION:Divendres 25 d’abril · Centre Artesà Tradicionàrius · 20.30 h · ENTRADES EXHAURIDES \nEls miralls de Dylan  \nLa complicitat de Gerard Quintana i Jordi Batiste amb el Barnasants ha estat recurrent en aquests 30 anys. Ha sigut l’espai cultural on\, tant un com l’altre\, han presentat a sovint les seves feines. On va ressonar Dylan en català amb les seves veus. \nEra per tant natural\, que en una edició com aquesta\, dedicada a reivindicar la cançó d’autor com aliment col·lectiu de l’anima\, els miralls de Dylan tornessin a ser-hi presents. Perquè els temps tornen a estar canviant\, però sembla que no precisament en el sentit que li donava el poeta.
URL:https://barnasants.com/esdeveniments/els-miralls-de-dylan-amb-gerard-quintana-i-jordi-batiste/
CATEGORIES:BS Catalunya
ATTACH;FMTTYPE=image/jpeg:https://barnasants.com/wp-content/uploads/2025/01/Miralls-de-Dylan-jordi-batiste-gerard-quintana-juan-miguel-morales-WEB.jpg
END:VEVENT
BEGIN:VEVENT
DTSTART;TZID=Europe/Madrid:20250425T210000
DTEND;TZID=Europe/Madrid:20250425T210000
DTSTAMP:20260422T045415
CREATED:20241223T084206Z
LAST-MODIFIED:20250404T074408Z
UID:7446-1745614800-1745614800@barnasants.com
SUMMARY:Montse Castellà canta Joan Baez a Igualada
DESCRIPTION:Divendres 25 d’abril · Ateneu Igualadí ·  21 h  · 15 € \nMontse Castellà canta Joan Baez \nJoan Baez va fer els seus primers concerts al Club 47\, a Cambridge (Massachussets) lo 1958 amb només 17 anys i es va acomiadar dels escenaris a Catalunya i Madrid\, lo 2021\, als gairebé 80 anys i després de més de sis dècades de trajectòria. Hereva natural de l’emblemàtic Pete Seeger -assistir de jove a un seu concert la va fer dedicar-se a la música- i continuadora del missatge del seu amic Martin Luther King\, la cantautora nord-americana ha destacat pel seu talent com a intèrpret i compositora i per la seua coherència i valentia com a activista per la pau i els drets civils. La seua veu i la seua lluita han estat presents al costat d’artistes mítics i d’esdeveniments clau del segle XX: Beatles\, Dylan\, Hendricks\, Vietnam\, Marxa de Washington\, Woodstock\, Live Aid. \nAra\, Montse Castellà -a qui Baez va convidar a fer un duet amb ella\, justament en la seua gira de comiat- la reivindica en un espectacle que traduïx al català algunes de les cançons més significatives del seu repertori. La nova proposta de Castellà recorre els moments més importants de la vida de Baez\, explorant-ne els més coneguts i indagant en els més anecdòtics. Totes estes vivències ens ajudaran a conèixer millor una de les cantautores més importants de tots els temps i d’escoltar el seu missatge en la nostra llengua.
URL:https://barnasants.com/esdeveniments/montse-castella-canta-joan-baez-a-igualada/
LOCATION:Ateneu Igualadí de la Classe Obrera\, Sant Pau\, 9\, Igualada\, Catalunya\, 08700
CATEGORIES:BS Catalunya
ATTACH;FMTTYPE=image/jpeg:https://barnasants.com/wp-content/uploads/2024/11/joan-baez-i-montse-castella.jpg
END:VEVENT
BEGIN:VEVENT
DTSTART;TZID=Europe/Madrid:20250426T200000
DTEND;TZID=Europe/Madrid:20250426T200000
DTSTAMP:20260422T045415
CREATED:20250114T190137Z
LAST-MODIFIED:20250402T153738Z
UID:7622-1745697600-1745697600@barnasants.com
SUMMARY:Carmen Aciar. Historias Mías
DESCRIPTION:Dissabte 26 d’abril · Unió Extremenya de Sant Boi · 20 h · 15 /18 €\n\nCarmen Aciar. Historias Mías\n\nCarmen Aciar és una cantautora de Mendoza\, l’Argentina\, establerta a Barcelona i en plena recerca musical i d’expressió a través de la poesia i la cançó. Amb una forta influència de la seva arrel folklòrica\, va publicar en 2023 el seu primer treball discogràfic titulat Historias Mías on ens connecta amb la seva\nexperiència i relació amb la música i el fet d’habitar un lloc nou.\n\nEls seus concerts a guitarra i veu són sempre una invitació sen sible i íntima per connectar amb el seu paisatge sonor i poètic.
URL:https://barnasants.com/esdeveniments/carmen-aciar-historias-mias/
LOCATION:Unió Extremenya de Sant Boi\, Carrer de Mossèn Jacint Verdaguer\, 161\, Sant Boi de Llobregat\, Barcelona\, 08830
CATEGORIES:BS Catalunya
ATTACH;FMTTYPE=image/jpeg:https://barnasants.com/wp-content/uploads/2025/01/CARMEN-ACIAR-Web.jpg
END:VEVENT
BEGIN:VEVENT
DTSTART;TZID=Europe/Madrid:20250426T200000
DTEND;TZID=Europe/Madrid:20250426T235900
DTSTAMP:20260422T045415
CREATED:20241222T170013Z
LAST-MODIFIED:20250109T144252Z
UID:7244-1745697600-1745711940@barnasants.com
SUMMARY:Montse Castellà canta Joan Baez
DESCRIPTION:Dissabte 26 d’abril · El Molino ·  20 h  · 20/25 € \nMontse Castellà canta Joan Baez \nJoan Baez va fer els seus primers concerts al Club 47\, a Cambridge (Massachussets) lo 1958 amb només 17 anys i es va acomiadar dels escenaris a Catalunya i Madrid\, lo 2021\, als gairebé 80 anys i després de més de sis dècades de trajectòria. Hereva natural de l’emblemàtic Pete Seeger -assistir de jove a un seu concert la va fer dedicar-se a la música- i continuadora del missatge del seu amic Martin Luther King\, la cantautora nord-americana ha destacat pel seu talent com a intèrpret i compositora i per la seua coherència i valentia com a activista per la pau i els drets civils. La seua veu i la seua lluita han estat presents al costat d’artistes mítics i d’esdeveniments clau del segle XX: Beatles\, Dylan\, Hendricks\, Vietnam\, Marxa de Washington\, Woodstock\, Live Aid. \nAra\, Montse Castellà -a qui Baez va convidar a fer un duet amb ella\, justament en la seua gira de comiat- la reivindica en un espectacle que traduïx al català algunes de les cançons més significatives del seu repertori. La nova proposta de Castellà recorre els moments més importants de la vida de Baez\, explorant-ne els més coneguts i indagant en els més anecdòtics. Totes estes vivències ens ajudaran a conèixer millor una de les cantautores més importants de tots els temps i d’escoltar el seu missatge en la nostra llengua.
URL:https://barnasants.com/esdeveniments/montse-castella-canta-joan-baez/
LOCATION:El Molino\, Carrer de Vila i Vilà\, 99\, Barcelona\, Barcelona\, 08004
CATEGORIES:BS Catalunya
ATTACH;FMTTYPE=image/jpeg:https://barnasants.com/wp-content/uploads/2024/11/joan-baez-i-montse-castella.jpg
END:VEVENT
BEGIN:VEVENT
DTSTART;TZID=Europe/Madrid:20250427T180000
DTEND;TZID=Europe/Madrid:20250427T180000
DTSTAMP:20260422T045415
CREATED:20241223T084458Z
LAST-MODIFIED:20250407T162222Z
UID:7449-1745776800-1745776800@barnasants.com
SUMMARY:Montse Castellà canta Joan Baez a la Bisbal de l'Empordà
DESCRIPTION:Diumenge 27 d’abril · Castell Palau (la Bisbal de l’Empordà) ·  18 h  · 12/15 € \nMontse Castellà canta Joan Baez \nJoan Baez va fer els seus primers concerts al Club 47\, a Cambridge (Massachussets) lo 1958 amb només 17 anys i es va acomiadar dels escenaris a Catalunya i Madrid\, lo 2021\, als gairebé 80 anys i després de més de sis dècades de trajectòria. Hereva natural de l’emblemàtic Pete Seeger -assistir de jove a un seu concert la va fer dedicar-se a la música- i continuadora del missatge del seu amic Martin Luther King\, la cantautora nord-americana ha destacat pel seu talent com a intèrpret i compositora i per la seua coherència i valentia com a activista per la pau i els drets civils. La seua veu i la seua lluita han estat presents al costat d’artistes mítics i d’esdeveniments clau del segle XX: Beatles\, Dylan\, Hendricks\, Vietnam\, Marxa de Washington\, Woodstock\, Live Aid. \nAra\, Montse Castellà -a qui Baez va convidar a fer un duet amb ella\, justament en la seua gira de comiat- la reivindica en un espectacle que traduïx al català algunes de les cançons més significatives del seu repertori. La nova proposta de Castellà recorre els moments més importants de la vida de Baez\, explorant-ne els més coneguts i indagant en els més anecdòtics. Totes estes vivències ens ajudaran a conèixer millor una de les cantautores més importants de tots els temps i d’escoltar el seu missatge en la nostra llengua.
URL:https://barnasants.com/esdeveniments/montse-castella-canta-joan-baez-a-la-bisbal-de-lemporda/
CATEGORIES:BS Catalunya
ATTACH;FMTTYPE=image/jpeg:https://barnasants.com/wp-content/uploads/2024/11/joan-baez-i-montse-castella.jpg
END:VEVENT
BEGIN:VEVENT
DTSTART;TZID=Europe/Madrid:20250427T183000
DTEND;TZID=Europe/Madrid:20250427T183000
DTSTAMP:20260422T045415
CREATED:20241223T085125Z
LAST-MODIFIED:20250428T064143Z
UID:7451-1745778600-1745778600@barnasants.com
SUMMARY:Nova Cançó i censura
DESCRIPTION:Diumenge 27 d’abril · Teatre Casinet d’Hostafrancs · 18:30 h · 18/20 € \nNova Cançó i censura: Lletres censurades a la llum  \nEl repertori del concert divulga les peces de la Nova Cançó que van ser prohibides pel règim franquista\, censurades de manera parcial o total. \nLes lletres han estat recuperades per la historiadora i etnomusicòloga Maria Salicrú-Maltas al seu llibre Aquesta cançó\, no! (Comanegra\, 2024). La interpretació serà a càrrec d’una nova generació de músics compromesos com Pau Alabajos\, Arnau Aymerich\, Cesk Freixas\, Meritxell Gené\, Gemma Humet\, Jordi Montañez i Marc Ràmia.
URL:https://barnasants.com/esdeveniments/nova-canco-i-censura/
LOCATION:Teatre Casinet d’Hostafrancs\, Rector Triadó\, 53\, Barcelona
CATEGORIES:BS Catalunya
ATTACH;FMTTYPE=image/jpeg:https://barnasants.com/wp-content/uploads/2024/12/la-nova-canco-inedita-i-censurada-2.jpg
END:VEVENT
END:VCALENDAR