BEGIN:VCALENDAR
VERSION:2.0
PRODID:-//Barnasants - ECPv6.15.20//NONSGML v1.0//EN
CALSCALE:GREGORIAN
METHOD:PUBLISH
X-ORIGINAL-URL:https://barnasants.com
X-WR-CALDESC:Esdeveniments per Barnasants
REFRESH-INTERVAL;VALUE=DURATION:PT1H
X-Robots-Tag:noindex
X-PUBLISHED-TTL:PT1H
BEGIN:VTIMEZONE
TZID:Europe/Madrid
BEGIN:DAYLIGHT
TZOFFSETFROM:+0100
TZOFFSETTO:+0200
TZNAME:CEST
DTSTART:20240331T010000
END:DAYLIGHT
BEGIN:STANDARD
TZOFFSETFROM:+0200
TZOFFSETTO:+0100
TZNAME:CET
DTSTART:20241027T010000
END:STANDARD
BEGIN:DAYLIGHT
TZOFFSETFROM:+0100
TZOFFSETTO:+0200
TZNAME:CEST
DTSTART:20250330T010000
END:DAYLIGHT
BEGIN:STANDARD
TZOFFSETFROM:+0200
TZOFFSETTO:+0100
TZNAME:CET
DTSTART:20251026T010000
END:STANDARD
BEGIN:DAYLIGHT
TZOFFSETFROM:+0100
TZOFFSETTO:+0200
TZNAME:CEST
DTSTART:20260329T010000
END:DAYLIGHT
BEGIN:STANDARD
TZOFFSETFROM:+0200
TZOFFSETTO:+0100
TZNAME:CET
DTSTART:20261025T010000
END:STANDARD
END:VTIMEZONE
BEGIN:VEVENT
DTSTART;TZID=Europe/Madrid:20250201T190000
DTEND;TZID=Europe/Madrid:20250201T190000
DTSTAMP:20260422T072144
CREATED:20241222T181532Z
LAST-MODIFIED:20241222T184457Z
UID:7273-1738436400-1738436400@barnasants.com
SUMMARY:Manel Camp a l'Auditori Barradas
DESCRIPTION:Dissabte 1 de febrer · Auditori Barradas (l’Hospitalet) ·  19 h ·  15 € \nManel Camp: Banda sonora en anys de lluita \nEl pianista manresà revisita les cançons que van marcar Catalunya durant els seixanta i setanta\, època de lluita aferrissada per la democràcia. \nAquells anys van ser temps en què molts van perdre la vida\, altres van ser empresonats i alguns\, no pocs\, van sentir que l’exili era l’únic camí. Ampliant el focus cap a altres estils i amb els marges temporals als anys cinquanta i vuitanta\, Manel Camp centrarà el concert en “un sentit de clam pels drets humans” a través d’una “banda sonora implicada”.
URL:https://barnasants.com/esdeveniments/manel-camp-a-lauditori-barradas/
LOCATION:Auditori Barradas\, Rambla Just Oliveras\, 56\, L'Hospitalet de Llobregat
CATEGORIES:BS Catalunya
ATTACH;FMTTYPE=image/jpeg:https://barnasants.com/wp-content/uploads/2024/12/concert-manel-camp-24-novembre-manresa_img_1673980.jpg
END:VEVENT
BEGIN:VEVENT
DTSTART;TZID=Europe/Madrid:20250201T200000
DTEND;TZID=Europe/Madrid:20250201T200000
DTSTAMP:20260422T072144
CREATED:20241222T182333Z
LAST-MODIFIED:20241222T182333Z
UID:7278-1738440000-1738440000@barnasants.com
SUMMARY:Joan Amèric al Barnasants
DESCRIPTION:Dissabte 1 de febrer · El Molino (Barcelona) ·  20 h ·  20/25 € \nJoan Amèric en concert \nAmb un gust exquisit per la melodia\, la reflexió i la bellesa\, el cantautor d’Alzira celebra 30 anys de trajectòria amb la 30a edició del BarnaSants. \nEl cantautor va sorgir fa tres dècades a la galàxia de la cançó d’autor i va ser qualificat com un renovador del gènere. La reinaugurada sala El Molino\, amb la seva aura mítica\, serà un espai excel·lent per celebrar 30 anys d’estima i complicitat entre Joan Amèric\, un dels referents creatius de la cultura als Països Catalans\, i el festival BarnaSants.
URL:https://barnasants.com/esdeveniments/joan-americ-al-barnasants/
LOCATION:El Molino\, Carrer de Vila i Vilà\, 99\, Barcelona\, Barcelona\, 08004
CATEGORIES:BS Catalunya
ATTACH;FMTTYPE=image/jpeg:https://barnasants.com/wp-content/uploads/2024/12/joan-americ-Gemma-Boada.jpg
END:VEVENT
BEGIN:VEVENT
DTSTART;TZID=Europe/Madrid:20250202T180000
DTEND;TZID=Europe/Madrid:20250202T180000
DTSTAMP:20260422T072144
CREATED:20241222T184355Z
LAST-MODIFIED:20241222T184532Z
UID:7281-1738519200-1738519200@barnasants.com
SUMMARY:Cesk Freixas i Pau Alabajos al Joventut
DESCRIPTION:Diumenge 2 de febrer · Teatre Joventut (l’Hospitalet) ·  18 h ·  18 € \nCesk Freixas i Pau Alabajos tornen a unir les seves veus \nEl tarannà català i valencià s’uniran de nou amb dos referents de la cançó d’autor compromesa als Països Catalans per recrear una nit màgica. \nCesk Freixas i Pau Alabajos tornaran a unir les veus per recordar l’actuació conjunta que van oferir el 2012 al Teatre Joventut en el marc del festival BarnaSants. Ja fa dotze anys que celebren l’amistat\, la música compromesa i l’emoció compartida.
URL:https://barnasants.com/esdeveniments/cesk-freixas-i-pau-alabajos/
LOCATION:Teatre Joventut\, Joventut\, 4\, L'Hospitalet de Llobregat
CATEGORIES:BS Catalunya
ATTACH;FMTTYPE=image/jpeg:https://barnasants.com/wp-content/uploads/2024/12/pau-alabajos-i-cesk-freixas-juan-miguel-morales-web.jpg
END:VEVENT
BEGIN:VEVENT
DTSTART;TZID=Europe/Madrid:20250206T200000
DTEND;TZID=Europe/Madrid:20250206T200000
DTSTAMP:20260422T072144
CREATED:20241222T190128Z
LAST-MODIFIED:20241222T191036Z
UID:7285-1738872000-1738872000@barnasants.com
SUMMARY:The Mirror Three
DESCRIPTION:Dijous 6 de febrer · Harlem Jazz Club (Barcelona) ·  20 h ·  15/18 € \nThe Mirror Three en concert \nEl trio de rock i reggae nascut a Formentera està integrat per Leo Alonso als teclats\, Quique Callís a la guitarra i Pep Castelló a les percussions. \nThe Mirror Three vol ser una proposta innovadora i fresca\, que fusiona diversos gèneres que van del rock al reggae\, passant pel funk més mogut. En realitat\, però\, són uns punkis sense cresta que fugen de les etiquetes musicals i creen el seu propi llenguatge. A l’escenari desprenen una energia captivadora que no deixarà ningú indiferent.
URL:https://barnasants.com/esdeveniments/the-mirror-three/
LOCATION:Harlem Jazz Club\, Comtessa de Sobradiel\, 8\, Barcelona
CATEGORIES:BS Catalunya
ATTACH;FMTTYPE=image/jpeg:https://barnasants.com/wp-content/uploads/2024/12/The-Mirror-Three-web.jpg
END:VEVENT
BEGIN:VEVENT
DTSTART;TZID=Europe/Madrid:20250207T200000
DTEND;TZID=Europe/Madrid:20250207T200000
DTSTAMP:20260422T072144
CREATED:20241222T192310Z
LAST-MODIFIED:20241223T131216Z
UID:7297-1738958400-1738958400@barnasants.com
SUMMARY:Cesk Freixas: Gira de comiat a Vilafranca
DESCRIPTION:Divendres 7 de febrer · Auditori Maria Rosa Juncosa Vilafranca · 20 h · 18/20 € \nCesk Freixas: Gira de comiat  \nNascut penedesenc\, a Sant Pere de Riudebitlles\, i ebrenc d’adopció –viu a la Ràpita–\, el cantautor s’acomiada dels escenaris per un temps indefinit. \nDesprés de 21 anys d’activitat professional ininterrompuda\, amb més de 2.500 concerts i nou discos publicats\, Cesk Freixas ha anunciat que vol aturar el seu projecte musical. La gira final\, que passarà el 7 de febrer per Vilafranca del Penedès\, es tancarà el diumenge 4 de maig a Barcelona\, sempre acompanyat de la seva banda.
URL:https://barnasants.com/esdeveniments/cesk-freixas-gira-de-comiat-a-vilafranca/
LOCATION:Auditori Municipal de Vilafranca del Penedès\, Av. Catalunya\, 15\, Vilafranca del Penedès
CATEGORIES:BS Catalunya
ATTACH;FMTTYPE=image/jpeg:https://barnasants.com/wp-content/uploads/2024/12/Cesk-Freixas_WEB.jpg
END:VEVENT
BEGIN:VEVENT
DTSTART;TZID=Europe/Madrid:20250207T200000
DTEND;TZID=Europe/Madrid:20250207T200000
DTSTAMP:20260422T072144
CREATED:20241222T190850Z
LAST-MODIFIED:20241222T191102Z
UID:7291-1738958400-1738958400@barnasants.com
SUMMARY:Alidé Sans a l'Auditori Barradas
DESCRIPTION:Divendres 7 de febrer · Auditori Barradas (l’Hospitalet) ·  20 h ·  15 € \nAlidé Sans en concert \nLa cantautora aranesa desplega en els directes un repertori de cançons occitanes tradicionals i de tradició oral\, que reinterpreta amb carisma. \nAlidé Sans convida el públic a un concert únic amb banda en què la tradició i la modernitat es donen la mà. L’artista de Bausen presentarà un recull de cançons de tradició oral amb la seva energia inigualable i homenatjarà figures de la cultura occitana\, com ara el cantautor de Carcassona Claudi Martí o la poetessa del Llemosí Marcela Delpastre.
URL:https://barnasants.com/esdeveniments/alide-sans-a-lauditori-barradas/
LOCATION:Auditori Barradas\, Rambla Just Oliveras\, 56\, L'Hospitalet de Llobregat
CATEGORIES:BS Catalunya
ATTACH;FMTTYPE=image/jpeg:https://barnasants.com/wp-content/uploads/2024/12/FOTO-ALIDE-SANS-WEB.jpg
END:VEVENT
BEGIN:VEVENT
DTSTART;TZID=Europe/Madrid:20250208T200000
DTEND;TZID=Europe/Madrid:20250208T200000
DTSTAMP:20260422T072144
CREATED:20241222T193645Z
LAST-MODIFIED:20241230T084200Z
UID:7301-1739044800-1739044800@barnasants.com
SUMMARY:Anna Roig i Carles Belda: Passar-la bé
DESCRIPTION:Dissabte 8 de febrer · El Molino (Barcelona) · 20 h · 20/25 € \nAnna Roig i Carles Belda: Passar-la bé \nLa cantautora penedesenca Anna Roig s’uneix a l’acordionista i cantant vallesà Carles Belda per interpretar versions en diferents llengües. \nEl duet buscarà seduir el públic tot sabent que per passar una bona estona només calen les seves veus\, un acordió diatònic\, complicitat i un bon reguitzell de cançons que despertin el somriure als llavis i facin bategar el cor amb força. Versions de diferents orígens\, autors\, èpoques i estils\, en català\, francès\, occità\, portuguès\, crioll i altres.
URL:https://barnasants.com/esdeveniments/anna-roig-i-carles-belda-passar-la-be/
LOCATION:El Molino\, Carrer de Vila i Vilà\, 99\, Barcelona\, Barcelona\, 08004
CATEGORIES:BS Catalunya
ATTACH;FMTTYPE=image/jpeg:https://barnasants.com/wp-content/uploads/2024/12/Anna-Roig-i-Carles-Belda-WEB.jpg
END:VEVENT
BEGIN:VEVENT
DTSTART;TZID=Europe/Madrid:20250209T183000
DTEND;TZID=Europe/Madrid:20250209T203000
DTSTAMP:20260422T072144
CREATED:20241222T194338Z
LAST-MODIFIED:20250129T121751Z
UID:7306-1739125800-1739133000@barnasants.com
SUMMARY:Ven'nus: Concert d’hivern
DESCRIPTION:Diumenge 9 de febrer · Harlem Jazz Club (Barcelona) · 18:30 h · 15/18 € \nVen’nus: Concert d’hivern \nLa cantant sabadellenca Valèria N. Saurí estrena una gira d’hivern íntima i recollida en format de trio amb els guitarristes Vernat i Néstor Pérez. \nLa cantant i productora Ven’nus s’ha volgut fer un homenatge personal i íntim durant l’hivern\, en contrast amb les gires festives i exaltades de l’estiu. Amb un format de trio harmònicament i rítmicament pensat\, farà una gira de concerts exclusius\, que permetrà descobrir cançons inèdites així com revisitar-ne altres d’antigues.
URL:https://barnasants.com/esdeveniments/vennus-concert-dhivern/
LOCATION:Harlem Jazz Club\, Comtessa de Sobradiel\, 8\, Barcelona
CATEGORIES:BS Catalunya
ATTACH;FMTTYPE=image/jpeg:https://barnasants.com/wp-content/uploads/2024/12/vennus-web.jpg
END:VEVENT
BEGIN:VEVENT
DTSTART;TZID=Europe/Madrid:20250214T200000
DTEND;TZID=Europe/Madrid:20250214T200000
DTSTAMP:20260422T072144
CREATED:20241222T200426Z
LAST-MODIFIED:20241222T200449Z
UID:7310-1739563200-1739563200@barnasants.com
SUMMARY:Pep Mirambell: Pop Socialista Obrero Español
DESCRIPTION:Divendres 14 de febrer · Harlem Jazz Club (Barcelona) · 20 h · 15/18 € \nPep Mirambell presenta Pop Socialista Obrero Español \nL’alacantí Pep Mirambell presenta el seu nou espectacle\, que reflexiona sobre si a dia d’avui és possible cantar en espanyol sense ser fatxa. \nEl xou ha estat coescrit i codirigit pel mateix Pep Mirambell i René Macone\, exmembres del conjunt efímer de pop-folk Els Jóvens (2017-2019). Dotze cançons en les quals aborda qüestions com el problema de l’habitatge\, les relacions tòxiques\, la precarietat laboral o la lluita de classe\, i musicalment envoltades per un so pop i lleuger.
URL:https://barnasants.com/esdeveniments/pep-mirambell-pop-socialista-obrero-espanol/
LOCATION:Harlem Jazz Club\, Comtessa de Sobradiel\, 8\, Barcelona
CATEGORIES:BS Catalunya
ATTACH;FMTTYPE=image/jpeg:https://barnasants.com/wp-content/uploads/2024/12/pep-mirambell-web.jpg
END:VEVENT
BEGIN:VEVENT
DTSTART;TZID=Europe/Madrid:20250215T200000
DTEND;TZID=Europe/Madrid:20250215T200000
DTSTAMP:20260422T072144
CREATED:20241222T201134Z
LAST-MODIFIED:20241222T201351Z
UID:7314-1739649600-1739649600@barnasants.com
SUMMARY:Bep Marquès al C.C. Albareda
DESCRIPTION:Dissabte 15 de febrer · C.C. Albareda (Barcelona) · 20 h · 15/18 € \nBep Marquès en concert \nEl músic ciutadellenc se suma a la celebració dels 30 anys del BarnaSants amb temes propis\, populars i altres de mítics de Guillem d’Efak. \nBep Marquès torna al BarnaSants rodejat d’amics –com Pamela Sintes\, Toni Bosch\, Rubén Martínez i molts altres– per cantar peces pròpies\, populars arrelades a les Illes Balears i composicions de Guillem d’Efak\, mite de les lletres i la música catalana. Un recital imprescindible\, ple d’emocions\, complicitats\, improvisacions i històries.
URL:https://barnasants.com/esdeveniments/bep-marques-al-c-c-albareda/
LOCATION:Centre Cultural Albareda\, albareda\, 22\, Barcelona
CATEGORIES:BS Catalunya
ATTACH;FMTTYPE=image/jpeg:https://barnasants.com/wp-content/uploads/2024/12/Bep-Marque-WEB.jpg
END:VEVENT
BEGIN:VEVENT
DTSTART;TZID=Europe/Madrid:20250216T180000
DTEND;TZID=Europe/Madrid:20250216T180000
DTSTAMP:20260422T072144
CREATED:20241222T201758Z
LAST-MODIFIED:20241222T201758Z
UID:7317-1739728800-1739728800@barnasants.com
SUMMARY:Martirio: Travesía por Barnasants
DESCRIPTION:Diumenge 16 de febrer · Teatre Joventut (l’Hospitalet) · 18 h · 18 € \nMartirio: Travesía por Barnasants  \nL’andalusa Maribel Quiñones ‘Martirio’ ofereix un concert únic amb el guitarrista Raúl Rodríguez per celebrar els 30 anys del festival BarnaSants. \nRecital antològic on mare i fill travessaran les cançons que han format part de la seva vida\, moltes vinculades a l’essència de la cançó d’autor a un costat i l’altre de l’Atlàntic. La copla\, el flamenc\, el tango\, el bolero i la tradició llatinoamericana s’entrecreuaran en un repertori amb Chavela Vargas i Carlos Cano\, arranjat per Raúl Rodríguez.
URL:https://barnasants.com/esdeveniments/martirio-travesia-por-barnasants/
LOCATION:Teatre Joventut\, Joventut\, 4\, L'Hospitalet de Llobregat
CATEGORIES:BS Catalunya
ATTACH;FMTTYPE=image/jpeg:https://barnasants.com/wp-content/uploads/2022/02/martirio-raul-ok.jpg
END:VEVENT
BEGIN:VEVENT
DTSTART;TZID=Europe/Madrid:20250216T183000
DTEND;TZID=Europe/Madrid:20250216T183000
DTSTAMP:20260422T072144
CREATED:20241127T111627Z
LAST-MODIFIED:20241222T203443Z
UID:7240-1739730600-1739730600@barnasants.com
SUMMARY:Lucas Masciano canta a l’Argentina
DESCRIPTION:Diumenge 16 de febrer  · Teatre Casinet d’Hostafrancs · 18:30h · 18/22 € \nLucas Masciano canta a l’Argentina \nLucas Masciano\, cantautor establert a Catalunya des de fa més de 20 anys\, i amb 11 discos d’estudi\, farà un concert únic per la 30 edició de Barnasants on repassarà el cançoner argentí que representen artistes com Gustavo Cerati\, Fito Páez\, Mercedes Sosa\, Spinetta entre d’altres\, a més de clàssics del tango\, el folc i la cançó d’autor. \nUn concert que reivindica la cultura en front de la política anticultural del govern argentí.
URL:https://barnasants.com/esdeveniments/lucas-masciano-canta-a-largentina/
LOCATION:Teatre Casinet d’Hostafrancs\, Rector Triadó\, 53\, Barcelona
CATEGORIES:BS Catalunya
ATTACH;FMTTYPE=image/jpeg:https://barnasants.com/wp-content/uploads/2024/11/lucas-masciano-web.jpg
END:VEVENT
BEGIN:VEVENT
DTSTART;TZID=Europe/Madrid:20250220T210000
DTEND;TZID=Europe/Madrid:20250220T210000
DTSTAMP:20260422T072144
CREATED:20241127T105928Z
LAST-MODIFIED:20250221T151907Z
UID:7237-1740085200-1740085200@barnasants.com
SUMMARY:Rafa Pons +18
DESCRIPTION:Dijous 20 de febrer · Sala Luz de Gas · 21h · 22/25 € \nRafa Pons +18 \nFa 18 anys que Rafa Pons\, precisament al Barnasants i també al Luz de Gas\, va presentar el seu primer disc “Mal te veo”. \nAquesta majoria d’edat professional és el pretext per a arrencar una gira única en la qual es repassaran temes dels seus vuit treballs discogràfics\, alhora que es reflexiona en clau d’humor sobre com hem canviat tant el món com nosaltres en aquest lapse de temps. \nEl públic\, a més\, d’una manera enginyosa que descobrirà en el propi xou\, podrà decidir part del repertori. Un concert apte per a menors\, però amb consciència adulta i acompanyat per la banda.
URL:https://barnasants.com/esdeveniments/rafa-pons-18/
LOCATION:Luz de Gas\, Carrer de Muntaner\, 246\, Barcelona
CATEGORIES:BS Catalunya
ATTACH;FMTTYPE=image/png:https://barnasants.com/wp-content/uploads/2024/11/rafa-pons.png
END:VEVENT
BEGIN:VEVENT
DTSTART;TZID=Europe/Madrid:20250221T200000
DTEND;TZID=Europe/Madrid:20250221T200000
DTSTAMP:20260422T072144
CREATED:20241222T202303Z
LAST-MODIFIED:20250305T170442Z
UID:7319-1740168000-1740168000@barnasants.com
SUMMARY:Aute. De cap manera podrem oblidar-te!
DESCRIPTION:Divendres 21 de febrer  · Teatre Joventut (l’Hospitalet) · 20 h · 18 € \nReivindicant Luis Eduardo Aute  \nEl 2025 fa cinc anys que va morir el cantautor nascut a Manila Luis Eduard Aute (1943-2020)\, i alguns amics seus li faran un sentit homenatge. \nLes cançons\, els poemes\, els quadres i les pel·lícules del cantautor madrileny –fill d’un català i una filipina– són considerats\, encara avui en dia\, la sublimació de la bellesa com a única raó i únic camí de veritat en aquest món despietat. \nEls poemes\, quadres\, pel·lícules i música d’aquest cantautor\, nascut a Manila\, són considerats\, encara avui en dia\, la sublimació de la bellesa com a única raó i únic camí de veritat en aquest món despietat. \nJoan Isaac\, Cris Juanico\, Sílvia Comes\, Roger Mas\, Anna Roig\, Andreu Valor\, Rusó Sala\, Miquel Pujadó i Àngel Petisme\, que s’encarregaran de cantar els seus textos en un concert col·lectiu i extraordinari.
URL:https://barnasants.com/esdeveniments/aute-de-cap-manera-podrem-oblidar-te/
LOCATION:Teatre Joventut\, Joventut\, 4\, L'Hospitalet de Llobregat
CATEGORIES:BS Catalunya
ATTACH;FMTTYPE=image/jpeg:https://barnasants.com/wp-content/uploads/2024/12/luis-eduardo-aute-juan-miguel-morales-WEB.jpg
END:VEVENT
BEGIN:VEVENT
DTSTART;TZID=Europe/Madrid:20250222T200000
DTEND;TZID=Europe/Madrid:20250222T200000
DTSTAMP:20260422T072144
CREATED:20241222T202637Z
LAST-MODIFIED:20250114T163223Z
UID:7322-1740254400-1740254400@barnasants.com
SUMMARY:Névoa & Dani Espasa: La meva reina\, va dir
DESCRIPTION:Dissabte 22 de febrer · El Molino (Barcelona) · 20 h · 20/25 € \nNévoa & Dani Espasa: La meva reina\, va dir \nLa cantant barcelonina de fados presenta un recull de cançons i poemes que formen una oda a la ciutat de Barcelona\, reina i Rosa de Foc. \nBarcelona és una ciutat imaginada a través de les dones\, de l’envelat\, del Raval i del mercat. Reines amb corones de flors\, de fang i de plàstic. Núria Piferrer ‘Névoa’ amb Dani Espasa al piano\, clavicèmbal i efectes de so presentaran un espectacle amb una sonoritat nova\, connectant la música tradicional\, un instrument barroc i l’ús de tecnologia.
URL:https://barnasants.com/esdeveniments/nevoa-dani-espasa-la-meva-reina-va-dir/
LOCATION:El Molino\, Carrer de Vila i Vilà\, 99\, Barcelona\, Barcelona\, 08004
CATEGORIES:BS Catalunya
ATTACH;FMTTYPE=image/jpeg:https://barnasants.com/wp-content/uploads/2024/12/LMRVD-El-Molino-br-Nevoa.jpg
END:VEVENT
BEGIN:VEVENT
DTSTART;TZID=Europe/Madrid:20250222T203000
DTEND;TZID=Europe/Madrid:20250222T203000
DTSTAMP:20260422T072144
CREATED:20241222T194003Z
LAST-MODIFIED:20250211T112452Z
UID:7302-1740256200-1740256200@barnasants.com
SUMMARY:Anna Roig i Carles Belda: Passar-la bé
DESCRIPTION:Dissabte 22 de febrer · Teatre Ateneu (Tàrrega) · 20:30 h · 10 € \nAnna Roig i Carles Belda: Passar-la bé \nLa cantautora penedesenca Anna Roig s’uneix a l’acordionista i cantant vallesà Carles Belda per interpretar versions en diferents llengües. \nEl duet buscarà seduir el públic tot sabent que per passar una bona estona només calen les seves veus\, un acordió diatònic\, complicitat i un bon reguitzell de cançons que despertin el somriure als llavis i facin bategar el cor amb força. Versions de diferents orígens\, autors\, èpoques i estils\, en català\, francès\, occità\, portuguès\, crioll i altres.
URL:https://barnasants.com/esdeveniments/anna-roig-i-carles-belda-passar-la-be-2/
LOCATION:Teatre Ateneu de Tàrrega\, Plaça del Carme\, 14\,\, Tàrrega\, Lleida\, 25300
CATEGORIES:BS Catalunya
ATTACH;FMTTYPE=image/jpeg:https://barnasants.com/wp-content/uploads/2024/12/Anna-Roig-i-Carles-Belda-WEB.jpg
END:VEVENT
BEGIN:VEVENT
DTSTART;TZID=Europe/Madrid:20250223T120000
DTEND;TZID=Europe/Madrid:20250223T170000
DTSTAMP:20260422T072144
CREATED:20250219T144015Z
LAST-MODIFIED:20250219T144023Z
UID:7684-1740312000-1740330000@barnasants.com
SUMMARY:Titana a Ròtova
DESCRIPTION:Diumenge 23 de febrer ·  Plaça Major de Ròtova · 12 h \nNoèlia Llorens\, Titana\, ens porta una posada en escena fresca on fandangos\, seguidilles\, malaguenyes\, jotes\, boleros\, o cançons de bressol -d’herència familiar- passen les lletres pel filtre del respecte i estima als temps presents\, reivindicant el paper de la dona a través dels seus cants recuperats i actualitzats\, que ens oferixen un viatge pel present arrelat al passat. \nEl seu primer disc ‘Titana’ (2022)\, aplaudit per la crítica i el públic\, ha sigut Premi del Públic Carles Santos 2022\, i ha estat nominat als Premis Ovidi i als Carles Santos per a millor disc de música tradicional.
URL:https://barnasants.com/esdeveniments/titana-a-rotova/
LOCATION:Plaça Major de Ròtova\, Plaça Major\, Ròtova\, València
CATEGORIES:BS Catalunya
ATTACH;FMTTYPE=image/jpeg:https://barnasants.com/wp-content/uploads/2025/02/titana.jpeg
END:VEVENT
BEGIN:VEVENT
DTSTART;TZID=Europe/Madrid:20250223T183000
DTEND;TZID=Europe/Madrid:20250223T183000
DTSTAMP:20260422T072144
CREATED:20241222T202901Z
LAST-MODIFIED:20241222T203347Z
UID:7325-1740335400-1740335400@barnasants.com
SUMMARY:Andreu Valor i Guiem Soldevila a dues veus
DESCRIPTION:Diumenge 23 de febrer · Harlem Jazz Club (Barcelona) · 18:30 h · 18/20 € \nAndreu Valor i Guiem Soldevila: A dues veus \nL’espectacle és un projecte casual i cercat\, que uneix el cantautor valencià Andreu Valor i el compositor menorquí Guiem Soldevila. \nTots dos tenen sensibilitat per la poesia i la cançó d’autor reflexiva\, i estímuls per compartir emocions cap a la vida\, el poble i la cultura. Valor i Soldevila conjugaran temes propis\, poemes musicats i versions aportant una visió original conjunta.
URL:https://barnasants.com/esdeveniments/andreu-valor-i-guiem-soldevila-a-dues-veus/
LOCATION:Harlem Jazz Club\, Comtessa de Sobradiel\, 8\, Barcelona
CATEGORIES:BS Catalunya
ATTACH;FMTTYPE=image/jpeg:https://barnasants.com/wp-content/uploads/2024/12/A-DUES-VEUS-GUIEM-SOLDEVILA-I-ANDREU-VALOR-Foto_-Joanjo-Puertos-23.jpg
END:VEVENT
BEGIN:VEVENT
DTSTART;TZID=Europe/Madrid:20250227T210000
DTEND;TZID=Europe/Madrid:20250227T210000
DTSTAMP:20260422T072144
CREATED:20241222T203906Z
LAST-MODIFIED:20241222T204348Z
UID:7333-1740690000-1740690000@barnasants.com
SUMMARY:Basilio Martí & Ricardo Marín: Recordant Antonio Vega
DESCRIPTION:Dijous 27 de febrer · Luz de Gas (Barcelona) · 21 h · 22/25 € \nBasilio Martí & Ricardo Marín: Recordant Antonio Vega  \nEl cantant madrileny Antonio Vega (1957-2009) va oferir el darrer concert a Catalunya al festival BarnaSants acompanyat d’aquests dos músics. \nEl pianista\, compositor i productor gallec\, Basilio Martí\, va tocar amb Vega durant la major part de la seva trajectòria\, mentre que el prestigiós guitarrista argentí Ricardo Marín va ser durant molt de temps el seu guitarrista i segona veu.
URL:https://barnasants.com/esdeveniments/basilio-marti-ricardo-marin-recordant-antonio-vega/
LOCATION:Luz de Gas\, Carrer de Muntaner\, 246\, Barcelona
CATEGORIES:BS Catalunya
ATTACH;FMTTYPE=image/jpeg:https://barnasants.com/wp-content/uploads/2024/12/antonio-vega-juan-miguel-morales-WEB.jpg
END:VEVENT
BEGIN:VEVENT
DTSTART;TZID=Europe/Madrid:20250228T200000
DTEND;TZID=Europe/Madrid:20250228T200000
DTSTAMP:20260422T072144
CREATED:20241222T204756Z
LAST-MODIFIED:20241222T204819Z
UID:7336-1740772800-1740772800@barnasants.com
SUMMARY:Eduard Iniesta: Cantautografia sonora
DESCRIPTION:Divendres 28 de febrer ·  El Molino (Barcelona) · 20 h · 20/25 € \nEduard Iniesta: Cantautografia sonora \nA partir del darrer disc\, La comunitat (Discmedi\, 2024)\, el cantautor\, compositor i guitarrista barceloní canta als referents musicals i poètics. \nA través de la Cantautografia sonora\, Eduard Iniesta versionarà els seus artistes de referència en un concert especial com a cantant i multiinstrumentista que mostrarà la seva singularitat i personalitat. Enguany la musicació “Nits de vampir”\, del seu germà Xavier Iniesta\, ha estat finalista del Premi Miquel Martí i Pol impulsat per Lluís Llach.
URL:https://barnasants.com/esdeveniments/eduard-iniesta-cantautografia-sonora/
LOCATION:El Molino\, Carrer de Vila i Vilà\, 99\, Barcelona\, Barcelona\, 08004
CATEGORIES:BS Catalunya
ATTACH;FMTTYPE=image/jpeg:https://barnasants.com/wp-content/uploads/2024/12/eduard-iniesta-web.jpg
END:VEVENT
BEGIN:VEVENT
DTSTART;TZID=Europe/Madrid:20250228T200000
DTEND;TZID=Europe/Madrid:20250228T200000
DTSTAMP:20260422T072144
CREATED:20250114T190239Z
LAST-MODIFIED:20250115T191422Z
UID:7620-1740772800-1740772800@barnasants.com
SUMMARY:Fito Mansilla. Canciones de amor y guerra
DESCRIPTION:Divendres 28 de febrer · Harlem Jazz Club (BCN) · 20 h · 15/18€\n\nCanciones de amor y guerra (Manual de salvación)\n\nUn viatge introspectiu que transita per múltiples gèneres\, des del rock d’autor i el pop fins al folk i els ritmes ballables. Una proposta rica en matisos sonors i emocions. En directe\, Fito demostra ser un artista autèntic\, atípic i sense complexos\, capaç d’emocionar i sorprendre parts iguals.\n\nLa seva veu i el seu mestratge instrumental amb l’ús de teclat\, sintes i guitarra acústica\, creen una atmosfera íntima i envoltant. Un laboratori creatiu fusionant sons i lletres.
URL:https://barnasants.com/esdeveniments/fito-mansilla-canciones-de-amor-y-guerra/
LOCATION:Harlem Jazz Club\, Comtessa de Sobradiel\, 8\, Barcelona
CATEGORIES:BS Catalunya
ATTACH;FMTTYPE=image/jpeg:https://barnasants.com/wp-content/uploads/2025/01/FITO-MANSILLA-WEb.jpg
END:VEVENT
END:VCALENDAR