BEGIN:VCALENDAR
VERSION:2.0
PRODID:-//Barnasants - ECPv6.15.20//NONSGML v1.0//EN
CALSCALE:GREGORIAN
METHOD:PUBLISH
X-ORIGINAL-URL:https://barnasants.com
X-WR-CALDESC:Esdeveniments per Barnasants
REFRESH-INTERVAL;VALUE=DURATION:PT1H
X-Robots-Tag:noindex
X-PUBLISHED-TTL:PT1H
BEGIN:VTIMEZONE
TZID:Europe/Madrid
BEGIN:DAYLIGHT
TZOFFSETFROM:+0100
TZOFFSETTO:+0200
TZNAME:CEST
DTSTART:20230326T010000
END:DAYLIGHT
BEGIN:STANDARD
TZOFFSETFROM:+0200
TZOFFSETTO:+0100
TZNAME:CET
DTSTART:20231029T010000
END:STANDARD
BEGIN:DAYLIGHT
TZOFFSETFROM:+0100
TZOFFSETTO:+0200
TZNAME:CEST
DTSTART:20240331T010000
END:DAYLIGHT
BEGIN:STANDARD
TZOFFSETFROM:+0200
TZOFFSETTO:+0100
TZNAME:CET
DTSTART:20241027T010000
END:STANDARD
BEGIN:DAYLIGHT
TZOFFSETFROM:+0100
TZOFFSETTO:+0200
TZNAME:CEST
DTSTART:20250330T010000
END:DAYLIGHT
BEGIN:STANDARD
TZOFFSETFROM:+0200
TZOFFSETTO:+0100
TZNAME:CET
DTSTART:20251026T010000
END:STANDARD
END:VTIMEZONE
BEGIN:VEVENT
DTSTART;TZID=Europe/Madrid:20241005T190000
DTEND;TZID=Europe/Madrid:20241005T190000
DTSTAMP:20260422T130937
CREATED:20240112T180054Z
LAST-MODIFIED:20240725T131106Z
UID:6875-1728154800-1728154800@barnasants.com
SUMMARY:Maria Rodés i Isabelle Laudenbach a Gelida
DESCRIPTION:Dissabte 5 d’Octubre  · Centre Cultural de Gelida · 19h \nEn concert \nDes d’una mirada personal\, l’artista barcelonina explora la cançó d’autor\, el folclore d’arreu\, l’experimentació sonora i també la copla. El resultat és un concert únic\, despullat d’artificis i antològic acompanyada per Isabelle Laudenbach a la guitarra. \nL’any 2022 va publicar Fuimos los dos (Elefant)\, una mirada agredolça sobre la ruptura\, amb cançons que ajuden a superar-la i l’any 2020 ens sorpenia amb Lilith (Satélite K) un univers inspirat en el món de les bruixes i les seves múltiples connotacions sobre les dones i enguany es compleixen deu anys del disc Maria Canta Copla (Chesapik 2014). \nL’artista ha format o forma part de divesos projectes\, d’entre ells l’homenatge col·lectiu del Centenari de George Brassens l’any 2021 dins del Barnasants. Amb més de set treballs discogràfics sobre les espatlles\, Maria Rodés és una de les veus més rellevants de l’escena que sorpèn i emociona en cada cançó\, en cada projecte. \n 
URL:https://barnasants.com/esdeveniments/maria-rodes-a-gelida/
LOCATION:Centre Cultural de Gelida\, C/ Major 51\, Gelida
CATEGORIES:BS Catalunya
ATTACH;FMTTYPE=image/jpeg:https://barnasants.com/wp-content/uploads/2024/01/mariarodesweb-copia-2.jpg
END:VEVENT
BEGIN:VEVENT
DTSTART;TZID=Europe/Madrid:20241013T190000
DTEND;TZID=Europe/Madrid:20241013T190000
DTSTAMP:20260422T130937
CREATED:20231228T093053Z
LAST-MODIFIED:20241111T114434Z
UID:6414-1728846000-1728846000@barnasants.com
SUMMARY:Faneka al Casinet d'Hostafrancs / Cancel·lat
DESCRIPTION:Diumenge 13 d’octubre · Casinet d’Hostafrancs · 19h · 12/15€ Cancel·lat \nNaranjas al mar \nLa banda\, repartida entre Catalunya i Madrid\, estrenarà en directe les deu cançons inèdites del tercer disc\, que marcaran una nova etapa. \nAmb la majoria de cançons en castellà\, però també interpretades en català\, anglès i gallec\, el trio femení Faneka presenta el seu particular imaginari musical inspirat en el folklore iberoamericà. El disc tindrà un so fresc i lluminós\, lletres sinceres i una rica instrumentació\, reforçada amb la incorporació d’Alan Denis a la percussió.
URL:https://barnasants.com/esdeveniments/faneka/
LOCATION:Teatre Casinet d’Hostafrancs\, Rector Triadó\, 53\, Barcelona
CATEGORIES:BS Catalunya
ATTACH;FMTTYPE=image/jpeg:https://barnasants.com/wp-content/uploads/2023/12/Faneka_Naranjas-al-mar_©Guillermo-Carazo_34.jpg
END:VEVENT
END:VCALENDAR